BEGIN:VCALENDAR
VERSION:2.0
PRODID:-//ChamberMaster//Event Calendar 2.0//EN
METHOD:PUBLISH
X-PUBLISHED-TTL:P3D
REFRESH-INTERVAL:P3D
CALSCALE:GREGORIAN
BEGIN:VEVENT
DTSTART:20241114T220000Z
DTEND:20241115T010000Z
X-MICROSOFT-CDO-ALLDAYEVENT:FALSE
SUMMARY:118th Annual Reception
DESCRIPTION:Join us for Forward Lawrence's Signature Event\n\nPresented by: Pittsburgh Region. Next is Now.\, Giordano Construction\, and Lindy Paving\n\n118th Annual Reception\n\n\n\nThis year's Annual Reception on November 14th will take on a new format. Traditionally held as a spring dinner\, this year's event will not include a formal dinner. We will begin with insightful CEO panel discussions by United Refractories Co\, LaCarte Development Company\, and Steelite International\, followed by a keynote address from Dr. Russell Mills\, Senior Regional Officer of the Pittsburgh Branch of the Federal Reserve Bank of Cleveland.\n\n\n\nCocktail hour and networking follows\, featuring a variety of heavy hors d'oeuvres by Weber Catering and complimented by a selection of wines from Nova Cellars. \n\n\n\nWe look forward to seeing you there!
X-ALT-DESC;FMTTYPE=text/html:<span style="font-size:14px\;"><span style="font-family:arial\;"><em><span style="font-size:16px\;">Join us for Forward Lawrence&#39\;s Signature Event<br />\nPresented by:&nbsp\;</span></em></span></span><span style="font-size:20px\;"><strong><span style="font-family:aptos\,sans-serif\;">Pittsburgh Region. Next is Now.\,&nbsp\;</span></strong></span><span style="font-size:14px\;"><span style="font-family:arial\;"><span style="font-size:20px\;"><strong>Giordano Construction\, and Lindy Paving</strong></span><br />\n<span style="font-size:48px\;"><strong>118th Annual Reception</strong></span></span></span><br />\n<br />\n<span style="font-size:16px\;">This year&rsquo\;s Annual Reception on November 14th will take on a new format. Traditionally held as a spring dinner\, this year&rsquo\;s event will not include a formal dinner. We will begin with insightful CEO panel discussions by United Refractories Co\, LaCarte Development Company\, and Steelite International\, followed by a keynote address from Dr. Russell Mills\, Senior Regional Officer of the Pittsburgh Branch of the Federal Reserve Bank of Cleveland.<br />\n<br />\nCocktail hour and networking follows\, featuring a variety of heavy&nbsp\;hors d&#39\;oeuvres by Weber Catering and complimented by a selection of wines from Nova Cellars</span>.&nbsp\;<br />\n<br />\n<span style="font-size:16px\;">We look forward to seeing you there!</span>
LOCATION:The Scottish Rite Cathedral 110 E Lincoln Ave New Castle\, PA 16101
UID:e.3200.440
SEQUENCE:3
DTSTAMP:20260421T182053Z
URL:http://business.lawrencecounty.com/events/details/118th-annual-reception-440
END:VEVENT

END:VCALENDAR
