BEGIN:VCALENDAR
VERSION:2.0
PRODID:-//ChamberMaster//Event Calendar 2.0//EN
METHOD:PUBLISH
X-PUBLISHED-TTL:P3D
REFRESH-INTERVAL:P3D
CALSCALE:GREGORIAN
BEGIN:VEVENT
DTSTART:20251025T230000Z
DTEND:20251026T030000Z
X-MICROSOFT-CDO-ALLDAYEVENT:FALSE
SUMMARY:2025-10-25 The Midnight Hour Scaregrounds at Lawrence County Fairgrounds
DESCRIPTION:The Midnight Hour Scaregrounds at Lawrence County Fairgrounds\nARE YOU READY FOR MORE SCARES? We will be located at the LAWRENCE COUNTY FAIRGROUNDS with more monsters\, props\, & scenes! 2 attractions = 1 price = $15! Every FRI & SAT in October\, 7-11 PM. Please read the haunt rules. STAY SPOOKY!!!
X-ALT-DESC;FMTTYPE=text/html:<h1 class="tribe-events-single-event-title" style="box-sizing: inherit\; background-repeat: no-repeat\; font-size: 47px\; margin: 0px\; clear: both\; line-height: 1.38\; padding: 0px\; letter-spacing: -0.025rem\; font-weight: 700\; color: rgb(20\, 24\, 39)\; font-family: Spartan\, &quot\;Helvetica Neue&quot\;\, helvetica\, arial\, sans-serif\;">The Midnight Hour Scaregrounds at Lawrence County Fairgrounds</h1>\n<span style="color: rgb(20\, 24\, 39)\; font-family: Spartan\, &quot\;Helvetica Neue&quot\;\, helvetica\, arial\, sans-serif\; font-size: 20px\;">ARE YOU READY FOR MORE SCARES? We will be located at the LAWRENCE COUNTY FAIRGROUNDS with more monsters\, props\, &amp\; scenes! 2 attractions = 1 price = $15! Every FRI &amp\; SAT in October\, 7-11 PM. Please read the haunt rules. STAY SPOOKY!!!</span><br />\n&nbsp\;
LOCATION:Lawrence County Fairgrounds 464 Midway Road New Castle\, PA 16101
UID:e.3200.492
SEQUENCE:3
DTSTAMP:20260421T083748Z
URL:https://business.lawrencecounty.com/events/details/2025-10-25-the-midnight-hour-scaregrounds-at-lawrence-county-fairgrounds-492
END:VEVENT

END:VCALENDAR
