BEGIN:VCALENDAR
VERSION:2.0
PRODID:-//ChamberMaster//Event Calendar 2.0//EN
METHOD:PUBLISH
X-PUBLISHED-TTL:P3D
REFRESH-INTERVAL:P3D
CALSCALE:GREGORIAN
BEGIN:VEVENT
DTSTART:20241009T210000Z
DTEND:20241009T230000Z
X-MICROSOFT-CDO-ALLDAYEVENT:FALSE
SUMMARY:Business After Hours - October
DESCRIPTION:October Business After Hours hosted by Haunted Hill View Manor\n\n\n\nMix & mingle with chamber members\, community\, and business leaders!\n\nJoin us for a great time of networking. Promote your business. Meet other like-minded community members and business owners. \n\n\n\nComplimentary beer and hors d'oeuvres for all. \n\n\n\nPrivate Investigations of the Haunted Hill View Manor will be exclusively provided to our guests. Closed toe shoes and flashlights are recommended should you decide to participate.\n\n\n\nAdditionally\, if you are a member and have questions about your membership level\, or benefits\, be sure to speak with Ashley. If you are a non-member and interested in exploring what the Chamber can do for you\, we'd love to chat!
X-ALT-DESC;FMTTYPE=text/html:October Business After Hours hosted by Haunted Hill View Manor<br />\n<br />\nMix &amp\; mingle with chamber members\, community\, and business leaders!<br />\nJoin us for a great time of networking. Promote your business. Meet other like-minded community members and business owners.&nbsp\;<br />\n<br />\nComplimentary beer and hors d&#39\;oeuvres for all.&nbsp\;<br />\n<br />\nPrivate Investigations of the Haunted Hill View Manor will be exclusively provided to our guests. Closed toe shoes and flashlights are recommended should you decide to participate.<br />\n<br />\nAdditionally\, if you are a member and have questions about your membership level\, or benefits\, be sure to speak with Ashley. If you are a non-member and interested in exploring what the Chamber can do for you\, we&#39\;d love to chat!&nbsp\;
LOCATION:Haunted Hill View Manor 2801 Ellwood Rd New Castle\, PA 16101
UID:e.3200.444
SEQUENCE:3
DTSTAMP:20260420T145832Z
URL:https://business.lawrencecounty.com/events/details/business-after-hours-october-444
END:VEVENT

END:VCALENDAR
